BEGIN:VCALENDAR
VERSION:2.0
PRODID:-//Mills Realty - ECPv6.15.20//NONSGML v1.0//EN
CALSCALE:GREGORIAN
METHOD:PUBLISH
X-ORIGINAL-URL:https://millsreal.com
X-WR-CALDESC:Events for Mills Realty
REFRESH-INTERVAL;VALUE=DURATION:PT1H
X-Robots-Tag:noindex
X-PUBLISHED-TTL:PT1H
BEGIN:VTIMEZONE
TZID:America/Chicago
BEGIN:DAYLIGHT
TZOFFSETFROM:-0600
TZOFFSETTO:-0500
TZNAME:CDT
DTSTART:20220313T080000
END:DAYLIGHT
BEGIN:STANDARD
TZOFFSETFROM:-0500
TZOFFSETTO:-0600
TZNAME:CST
DTSTART:20221106T070000
END:STANDARD
BEGIN:DAYLIGHT
TZOFFSETFROM:-0600
TZOFFSETTO:-0500
TZNAME:CDT
DTSTART:20230312T080000
END:DAYLIGHT
BEGIN:STANDARD
TZOFFSETFROM:-0500
TZOFFSETTO:-0600
TZNAME:CST
DTSTART:20231105T070000
END:STANDARD
BEGIN:DAYLIGHT
TZOFFSETFROM:-0600
TZOFFSETTO:-0500
TZNAME:CDT
DTSTART:20240310T080000
END:DAYLIGHT
BEGIN:STANDARD
TZOFFSETFROM:-0500
TZOFFSETTO:-0600
TZNAME:CST
DTSTART:20241103T070000
END:STANDARD
END:VTIMEZONE
BEGIN:VEVENT
DTSTART;TZID=America/Chicago:20230415T100000
DTEND;TZID=America/Chicago:20230415T120000
DTSTAMP:20260424T094542
CREATED:20230406T184534Z
LAST-MODIFIED:20230406T184810Z
UID:2241-1681552800-1681560000@millsreal.com
SUMMARY:Free Investment Seminar!
DESCRIPTION:Join us for a free Q&A session at Warren Park on Saturday\, April 15th and we will answer all of your Real Estate questions!
URL:https://millsreal.com/event/free-investment-seminar/
LOCATION:Warren Park\, 6601 N Western Ave\, Chicago\, IL\, 60645\, United States
CATEGORIES:Investment Seminar
ATTACH;FMTTYPE=image/png:https://millsreal.com/wp-content/uploads/2023/04/Investment-Seminar-4.15.23.png
END:VEVENT
BEGIN:VEVENT
DTSTART;TZID=America/Chicago:20230311T100000
DTEND;TZID=America/Chicago:20230311T120000
DTSTAMP:20260424T094542
CREATED:20230211T212345Z
LAST-MODIFIED:20230211T212638Z
UID:1817-1678528800-1678536000@millsreal.com
SUMMARY:First-Time Homebuyer's Seminar
DESCRIPTION:Join us for a comprehensive First-Time Homebuyer’s Seminar\nwith Peter Streff & Leroy Viamille\nWe’ll outline the homebuying process and share how you may qualify for Down Payment Assistance (DPA) of up to $6\,000 through IHDA. \nContact us today to learn more! \nPeter Streff\nVice President of Mortgage Lending\nO (773) 539-5429 C (312) 415-0884\npeter.streff@rate.com \nLeroy Viamille\nDesignated Managing Broker\nhomes@millsreal.com\nO (773) 764-9547  C (773) 895-6284
URL:https://millsreal.com/event/first-time-homebuyers-seminar/
LOCATION:Warren Park\, 6601 N Western Ave\, Chicago\, IL\, 60645\, United States
ATTACH;FMTTYPE=image/jpeg:https://millsreal.com/wp-content/uploads/2023/02/First-Time-Homebuyer-2-1.jpg
END:VEVENT
END:VCALENDAR